BEGIN:VCALENDAR
PRODID:-//Microsoft Corporation//Outlook 12.0 MIMEDIR//EN
VERSION:2.0
CALSCALE:GREGORIAN
BEGIN:VEVENT
UID: ae86ee18-5220-4774-9000-dd014497072e
SUMMARY:Noorteetendus "See kõik on tema"
DTSTAMP:20230119T130000
DTSTART:20230119T130000
DTEND:20230119T151500
LOCATION:
DESCRIPTION: <p>	7.-9. klassi õpilastele Kuressaare Teatris Rakvere teatri noorteetendus "See kõik on tema". Pilet 16€.</p><p><strong>Link: </strong>https://www.aste.edu.ee/et/sundmuste-kalender/noorteetendus-see-koik-tema</p><p><strong>Hind: </strong></p>
STATUS:CONFIRMED
SEQUENCE:3
X-ALT-DESC;FMTTYPE=text/html:<p>	7.-9. klassi õpilastele Kuressaare Teatris Rakvere teatri noorteetendus "See kõik on tema". Pilet 16€.</p><p><strong>Link: </strong>https://www.aste.edu.ee/et/sundmuste-kalender/noorteetendus-see-koik-tema</p><p><strong>Hind: </strong></p>
X-MICROSOFT-CDO-BUSYSTATUS:OOF
X-MICROSOFT-CDO-IMPORTANCE:1
X-MICROSOFT-DISALLOW-COUNTER:FALSE
X-MS-OLK-ALLOWEXTERNCHECK:TRUE
X-MS-OLK-CONFTYPE:0
X-MICROSOFT-CDO-ALLDAYEVENT:
X-MICROSOFT-MSNCALENDAR-ALLDAYEVENT:
END:VEVENT
END:VCALENDAR